0.00001083083168845
0.00000000000000000
0.00000000000000000
-0.00001083083168845
-117.26234729076991000
32.80107594111365200
